{"text_format":"3","workbook":"xlsx","n_sheets":1,"sheets":["Лист1"],"not_rendered":{"external_links":1},"read":"whole","date_system":"1900"}

{"sheet":"Лист1","index":0,"n_rows":606,"n_cols":12,"rows_kept":606,"merged":[[0,2,0,4],[0,7,0,10],[1,7,1,10],[49,2,49,3],[92,2,92,3],[137,2,137,3],[181,2,181,3],[225,2,225,3],[268,2,268,3],[310,2,310,3],[353,2,353,3],[395,2,395,3],[437,2,437,3],[479,2,479,3],[520,2,520,3],[562,2,562,3],[604,2,604,3],[605,2,605,4]]}
["Школа",null,"МБОУ \" Кощаковская СОШ СОШ \"",null,null,"Утвердил:","должность","Заведующая столовой "]
["Типовое примерное меню приготавливаемых блюд",{"$nulls":5},"фамилия","Агафонова Л.В.."]
["Возрастная категория",{"$nulls":3},"7-11 лет",null,"дата",null," ",2025]
[{"$nulls":7},"день","месяц","год"]
["Неделя","День недели","Прием пищи","Раздел меню","Блюда","Вес блюда, г","Белки","Жиры","Углеводы","Калорийность","№ рецептуры","Цена"]
[1,1,"Завтрак","гор.блюдо","КАША ВЯЗКАЯ МОЛОЧНАЯ ИЗ РИСОВОЙ И ПШЕННОЙ КРУПЫ","200/5",14.734,15.962,42.563,373,"№175/015г.Дели"]
[{"$nulls":4},"ОЛАДЬИ - СЭНДВИЧ С ВАРЕНЫМ СГУЩЕНЫМ",55,{"v":4.8,"d":"4.800"},{"v":6.58,"d":"6.580"},10.39,120,"ТТК от 2025г."]
[]
[{"$nulls":3},"гор.напиток",{"$f":"[1]Лист1!$C$16","v":"ЧАЙ С САХАРОМ  "},{"$f":"[1]Лист1!G16","v":"200/8"},0.011,0.007,7.998,32,"ТТК 2021г"]
[{"$nulls":3},"хлеб","БАТОН",30,2.25,0.87,15.42,79]
[{"$nulls":3},"сыр","СЫР ПОРЦИЯМИ",15,3.945,3.99,null,53,"№ 15/2015г."]
[{"$nulls":3},"фрукты","ПЛОДЫ И ЯГОДЫ СВЕЖИЕ",100,0.4,0.4,9.8,47,"№338/2015г.Дели"]
[]
[{"$nulls":3},"итого",null,null,22.546,23.916,84.79,{"$f":"SUM(J6:J13)","v":704}]
[{"$f":"A6","v":1},{"$f":"B6","v":1},"Завтрак 2","фрукты"]
[]
[]
[{"$nulls":3},"итого",null,{"$f":"SUM(F15:F17)","v":0},{"$f":"SUM(G15:G17)","v":0},0,0,0,null,0]
[{"$f":"A6","v":1},{"$f":"B6","v":1},"Обед","закуска","САЛАТ КАПРИЗ",100,2.679,12.047,5.685,144,"ТТК(АКТ к/пр от 10.10.2016"]
[{"$nulls":3},"1 блюдо","СУП ИЗ ОВОЩЕЙ",250,2.863,2.261,42.592,202,"№99/2015г.Дели"]
[{"$nulls":4},"ФРИКАДЕЛЬКИ МЯСНЫЕ ДЛЯ СУПОВ",11,2.246,1.902,0.246,27,"ТТК 2022г."]
[{"$nulls":4},"СМЕТАНА",5,0.13,0.75,0.18,8,"ТТК"]
[{"$nulls":3},"2 блюдо","ШАШЛЫК ИЗ КУРИНЫХ ГРУДОК (на шампуре)",100,24.047,23.455,2.281,316]
[{"$nulls":3},"гарнир","МАКАРОННЫЕ ИЗДЕЛИЯ ОТВАРНЫЕ",180,6.722,6.079,43.083,254,"ТТК 2015г. Дели"]
[{"$nulls":3},"напиток","КОМПОТ ИЗ СВЕЖИХ ПЛОДОВ (ЯБЛОКИ)",200,0.08,0.08,11.94,49,"ТТК 2021г."]
[{"$nulls":3},"хлеб бел.","ХЛЕБ ПШЕНИЧНЫЙ",20,1.52,1.16,9.84,47]
[{"$nulls":3},"хлеб черн.","ХЛЕБ РЖАНО - ПШЕНИЧНЫЙ",20,1,0.2,9,44]
[]
[]
[{"$nulls":3},"итого",null,{"$f":"SUM(F19:F29)","v":886},{"$f":"SUM(G19:G29)","v":41.287},{"$f":"SUM(H19:H29)","v":47.934},117.793,{"$f":"SUM(J19:J29)","v":1091},null,{"$f":"SUM(L19:L29)","v":0}]
[{"$f":"A6","v":1},{"$f":"B6","v":1},"Полдник","булочное"]
[{"$nulls":3},"напиток"]
[]
[]
[{"$nulls":3},"итого",null,{"$f":"SUM(F31:F34)","v":0},{"$f":"SUM(G31:G34)","v":0},0,0,0,null,0]
[{"$f":"A6","v":1},{"$f":"B6","v":1},"Ужин","гор.блюдо"]
[{"$nulls":3},"гарнир"]
[{"$nulls":3},"напиток"]
[{"$nulls":3},"хлеб"]
[]
[]
[{"$nulls":3},"итого",null,{"$f":"SUM(F36:F41)","v":0},{"$f":"SUM(G36:G41)","v":0},0,0,0,null,0]
[{"$f":"A6","v":1},{"$f":"B6","v":1},"Ужин 2","кисломол."]
[{"$nulls":3},"булочное"]
[{"$nulls":3},"напиток"]
[{"$nulls":3},"фрукты"]
[]
[]
[{"$nulls":3},"итого",null,{"$f":"SUM(F43:F48)","v":0},{"$f":"SUM(G43:G48)","v":0},0,0,0,null,0]
[{"$f":"A6","v":1},{"$f":"B6","v":1},"Итого за день:",null,null,{"$f":"F14+F18+F30+F35+F42+F49","v":886},{"$f":"G14+G18+G30+G35+G42+G49","v":63.833},{"$f":"H14+H18+H30+H35+H42+H49","v":71.85},{"$f":"I14+I18+I30+I35+I42+I49","v":202.58300000000003},{"$f":"J14+J18+J30+J35+J42+J49","v":1795},null,{"$f":"L14+L18+L30+L35+L42+L49","v":0}]
[1,2,"Завтрак","гор.блюдо","КАША ВЯЗКАЯ МОЛОЧНАЯ ИЗ ГЕРКУЛЕСОВОЙ КРУПЫ С МАСЛОМ","200/5",14.952,16.993,45.92,396,"№173/2015г.Дели"]
[{"$nulls":4},"СЫРНИКИ \"КЛАССИЧЕСКИЕ\" СО СГУЩЕННЫМ МОЛОКОМ","35/5",9.348,8.99,12.426,168,"ТТК(АКТ к/пр от 26.02.2017"]
[{"$nulls":3},"гор.напиток","ЧАЙ С САХАРОМ",{"$f":"[1]Лист1!G24","v":"200/8"},0.011,0.007,{"$f":"[1]Лист1!K24","v":7.998},32,"ТТК 2021г"]
[{"$nulls":3},"хлеб","БАТОН",30,2.25,0.87,15.42,79]
[]
[{"$nulls":3},"фрукты","ПЛОДЫ И ЯГОДЫ СВЕЖИЕ (АПЕЛЬСИНЫ)",{"$f":"[1]Лист1!$G$23","v":120},1.08,0.24,9.72,52,"№ 338"]
[]
[]
[{"$nulls":3},"итого",null,null,{"$f":"SUM(G51:G58)","v":27.641},{"$f":"SUM(H51:H58)","v":27.099999999999998},{"$f":"SUM(I51:I58)","v":91.48400000000001},{"$f":"SUM(J51:J58)","v":727}]
[{"$f":"A51","v":1},{"$f":"B51","v":2},"Завтрак 2","фрукты"]
[]
[]
[{"$nulls":3},"итого",null,{"$f":"SUM(F60:F62)","v":0},{"$f":"SUM(G60:G62)","v":0},{"$f":"SUM(H60:H62)","v":0},{"$f":"SUM(I60:I62)","v":0},{"$f":"SUM(J60:J62)","v":0},null,0]
[{"$f":"A51","v":1},{"$f":"B51","v":2},"Обед","закуска","ОВОЩНЫЕ ПАЛОЧКИ ИЗ ОГУРЦОВ",100,0.7,0.1,1.9,11,"ТТК №1444 от 28.05.2021г."]
[{"$nulls":3},"1 блюдо","СУП ГОРОХОВЫЙ С ГРЕНКАМИ","250/10",12.76,8.485,38.925,283,"№ 243 сбор рецепт 1983 г."]
[{"$nulls":3},"2 блюдо","БИФШТЕКС РУБЛЕНЫЙ ПО ДОМАШНЕМУ ЗАПЕЧЕННЫЙ С ПОМИДОРАМИ И СЫРОМ","90/10/10",16.323,20.227,14.339,305,"ТТК от 2025 г."]
[{"$nulls":3},"гарнир","ПЮРЕ КАРТОФЕЛЬНОЕ",180,4.124,5.467,40.141,226,"№312/2015г. Дели"]
[{"$nulls":3},"напиток","НАПИТОК ИЗ УРЮКА",200,0.8,0.064,18.46,79,"ТТК №2693 от  14.09.2023 г."]
[{"$nulls":3},"хлеб бел.","ХЛЕБ ПШЕНИЧНЫЙ",20,1.52,1.16,9.84,47]
[{"$nulls":3},"хлеб черн.","ХЛЕБ РЖАНО-ПШЕНИЧНЫЙ",20,1,0.2,9,44]
[]
[]
[{"$nulls":3},"итого",null,{"$f":"SUM(F64:F72)","v":520},{"$f":"SUM(G64:G72)","v":37.227000000000004},{"$f":"SUM(H64:H72)","v":35.702999999999996},{"$f":"SUM(I64:I72)","v":132.605},{"$f":"SUM(J64:J72)","v":995},null,0]
[{"$f":"A51","v":1},{"$f":"B51","v":2},"Полдник","булочное"]
[{"$nulls":3},"напиток"]
[]
[]
[{"$nulls":3},"итого",null,{"$f":"SUM(F74:F77)","v":0},{"$f":"SUM(G74:G77)","v":0},{"$f":"SUM(H74:H77)","v":0},{"$f":"SUM(I74:I77)","v":0},{"$f":"SUM(J74:J77)","v":0},null,{"$f":"SUM(L71:L77)","v":0}]
[{"$f":"A51","v":1},{"$f":"B51","v":2},"Ужин","гор.блюдо"]
[{"$nulls":3},"гарнир"]
[{"$nulls":3},"напиток"]
[{"$nulls":3},"хлеб"]
[]
[]
[{"$nulls":3},"итого",null,{"$f":"SUM(F79:F84)","v":0},{"$f":"SUM(G79:G84)","v":0},{"$f":"SUM(H79:H84)","v":0},{"$f":"SUM(I79:I84)","v":0},{"$f":"SUM(J79:J84)","v":0},null,0]
[{"$f":"A51","v":1},{"$f":"B51","v":2},"Ужин 2","кисломол."]
[{"$nulls":3},"булочное"]
[{"$nulls":3},"напиток"]
[{"$nulls":3},"фрукты"]
[]
[]
[{"$nulls":3},"итого",null,{"$f":"SUM(F86:F91)","v":0},{"$f":"SUM(G86:G91)","v":0},{"$f":"SUM(H86:H91)","v":0},{"$f":"SUM(I86:I91)","v":0},{"$f":"SUM(J86:J91)","v":0},null,0]
[{"$f":"A51","v":1},{"$f":"B51","v":2},"Итого за день:",null,null,{"$f":"F59+F63+F73+F78+F85+F92","v":520},{"$f":"G59+G63+G73+G78+G85+G92","v":64.868},{"$f":"H59+H63+H73+H78+H85+H92","v":62.803},{"$f":"I59+I63+I73+I78+I85+I92","v":224.089},{"$f":"J59+J63+J73+J78+J85+J92","v":1722},null,{"$f":"L59+L63+L73+L78+L85+L92","v":0}]
[1,3,"Завтрак","гор.блюдо","КАША ВЯЗКАЯ МОЛОЧНАЯ ИЗ ПОЛБЯНОЙ КРУПЫ С МАСЛОМ","200/5",16.876,16.211,48.399,407,"ТТК № 2213 от 02.12.2022 г"]
[{"$nulls":4},"ОЛАДЬИ СО СГУЩЕНЫМ МОЛОКОМ 2 шт/60/10 г (из п/ф 36 г)",70,7.98,8.933,18.563,187,"№202/2015г,Дели"]
[{"$nulls":10},"№52/2015г,Дели"]
[{"$nulls":3},"гор.напиток","ЧАЙ С САХАРОМ","200/8",0.011,0.007,7.998,32,"ТТК от 2021г"]
[{"$nulls":3},"хлеб","ХЛЕБ ПШЕНИЧНЫЙ  "]
[]
[{"$nulls":3},"фрукты","ПЛОДЫ И ЯГОДЫ СВЕЖИЕ (ЯБЛОКИ)",100,0.4,0.4,9.8,47]
[]
[]
[{"$nulls":3},"итого",null,{"$f":"SUM(F94:F102)","v":170},{"$f":"SUM(G94:G102)","v":25.267},{"$f":"SUM(H94:H102)","v":25.551},{"$f":"SUM(I94:I102)","v":84.76},{"$f":"SUM(J94:J102)","v":673}]
[{"$f":"A94","v":1},{"$f":"B94","v":3},"Завтрак 2","фрукты"]
[]
[]
[{"$nulls":3},"итого",null,{"$f":"SUM(F104:F106)","v":0},{"$f":"SUM(G104:G106)","v":0},{"$f":"SUM(H104:H106)","v":0},{"$f":"SUM(I104:I106)","v":0},{"$f":"SUM(J104:J106)","v":0},null,0]
[{"$f":"A94","v":1},{"$f":"B94","v":3},"Обед","закуска","САЛАТ ИЗ СВЕЖИХ ПОМИДОРОВ (без лука)",100,1.045,6.184,3.61,77]
[{"$nulls":3},"1 блюдо","БОРЩ С КАПУСТОЙ И КАРТОФЕЛЕМ",250,1.775,5.166,41.9,221]
[{"$nulls":3},"2 блюдо","ФРИКАДЕЛЬКИ МЯСНЫЕ ДЛЯ СУПОВ",11,2.246,1.902,0.246,27]
[{"$nulls":3},"котлеты","КОТЛЕТЫ НЕЖНЫЕ",100,26.556,22.272,18.959,383]
[{"$nulls":3},"гарнир","РИС \"МОЗАИКА\" (с овощами)",180,4.447,12.735,40.916,297]
[{"$nulls":3},"напиток","НАПИТОК ИЗ ВИШНИ",200,0.12,0.03,11.57,48]
[{"$nulls":3},"хлеб бел.","ХЛЕБ ПШЕНИЧНЫЙ",20,1.52,0.16,9.84,47]
[{"$nulls":3},"хлеб черн.","ХЛЕБ РЖАНО-ПШЕНИЧНЫЙ",20,1,0.2,9,44]
[{"$nulls":3},"сметана","СМЕТАНА",5,0.13,0.75,0.18,8]
[]
[{"$nulls":3},"итого",null,{"$f":"SUM(F108:F117)","v":886},{"$f":"SUM(G108:G117)","v":38.839000000000006},{"$f":"SUM(H108:H117)","v":49.399},{"$f":"SUM(I108:I117)","v":136.221},{"$f":"SUM(J108:J117)","v":1152},null,0]
[{"$f":"A94","v":1},{"$f":"B94","v":3},"Полдник","булочное"]
[{"$nulls":3},"напиток"]
[]
[]
[{"$nulls":3},"итого",null,{"$f":"SUM(F119:F122)","v":0},{"$f":"SUM(G119:G122)","v":0},{"$f":"SUM(H119:H122)","v":0},{"$f":"SUM(I119:I122)","v":0},{"$f":"SUM(J119:J122)","v":0},null,{"$f":"SUM(L116:L122)","v":0}]
[{"$f":"A94","v":1},{"$f":"B94","v":3},"Ужин","гор.блюдо"]
[{"$nulls":3},"гарнир"]
[{"$nulls":3},"напиток"]
[{"$nulls":3},"хлеб"]
[]
[]
[{"$nulls":3},"итого",null,{"$f":"SUM(F124:F129)","v":0},{"$f":"SUM(G124:G129)","v":0},{"$f":"SUM(H124:H129)","v":0},{"$f":"SUM(I124:I129)","v":0},{"$f":"SUM(J124:J129)","v":0},null,0]
[{"$f":"A94","v":1},{"$f":"B94","v":3},"Ужин 2","кисломол."]
[{"$nulls":3},"булочное"]
[{"$nulls":3},"напиток"]
[{"$nulls":3},"фрукты"]
[]
[]
[{"$nulls":3},"итого",null,{"$f":"SUM(F131:F136)","v":0},{"$f":"SUM(G131:G136)","v":0},{"$f":"SUM(H131:H136)","v":0},{"$f":"SUM(I131:I136)","v":0},{"$f":"SUM(J131:J136)","v":0},null,0]
[{"$f":"A94","v":1},{"$f":"B94","v":3},"Итого за день:",null,null,{"$f":"F103+F107+F118+F123+F130+F137","v":1056},{"$f":"G103+G107+G118+G123+G130+G137","v":64.10600000000001},{"$f":"H103+H107+H118+H123+H130+H137","v":74.95},{"$f":"I103+I107+I118+I123+I130+I137","v":220.981},{"$f":"J103+J107+J118+J123+J130+J137","v":1825}]
[1,4,"Завтрак","гор.блюдо","КАША ВЯЗКАЯ МОЛОЧНАЯ ИЗ ПШЕННОЙ КРУПЫ С МАСЛОМ","200/5",17.79,17.04,44.078,401]
[{"$nulls":3},"сыр","СЫР ПОРЦИЯМИ",15,3.945,3.99,"-",53]
[{"$nulls":3},"гор.напиток","ЧАЙ С САХАРОМ","200/8",0.011,0.007,7.998,32]
[{"$nulls":3},"хлеб","БАТОН",30,2.25,0.87,15.42,79]
[]
[{"$nulls":3},"фрукты","ПЛОДЫ И ЯГОДЫ СВЕЖИЕ (АПЕЛЬСИНЫ)",120,1.08,0.24,9.72,52]
[]
[]
[{"$nulls":3},"итого",null,508,{"$f":"SUM(G139:G146)","v":25.076},{"$f":"SUM(H139:H146)","v":22.147000000000002},{"$f":"SUM(I139:I146)","v":77.216},{"$f":"SUM(J139:J146)","v":617}]
[{"$f":"A139","v":1},{"$f":"B139","v":4},"Завтрак 2","фрукты"]
[]
[]
[{"$nulls":3},"итого",null,{"$f":"SUM(F148:F150)","v":0},{"$f":"SUM(G148:G150)","v":0},{"$f":"SUM(H148:H150)","v":0},{"$f":"SUM(I148:I150)","v":0},{"$f":"SUM(J148:J150)","v":0},null,0]
[{"$f":"A139","v":1},{"$f":"B139","v":4},"Обед","закуска","АССОРТИ ОВОЩНОЕ (помидоры, огурцы свежие, масло растительное)","45/45/10",0.81,10.125,2.565,106]
[{"$nulls":3},"1 блюдо","СУП КАРТОФЕЛЬНЫЙ С ВЕРМИШЕЛЬЮ (гр.А)",250,6.86,4.048,44.875,243]
[{"$nulls":3},"2 блюдо","ГРУДКИ КУРИНЫЕ ОТВАРНЫЕ (филе)",30,7.181,6.182,"-",84]
[{"$nulls":3},"говядина","ГОВЯДИНА СО СТРУЧКОВОЙ ФАСОЛЬЮ","50/50",18.806,21.634,14.011,326]
[{"$nulls":3},"гарнир","КАША ГРЕЧНЕВАЯ РАССЫПЧАТАЯ",180,7.946,6.479,50.249,291]
[{"$nulls":3},"напиток","КОМПОТ ИЗ ЗАМОРОЖЕННОЙ КОМПОТНОЙ СМЕСИ",200,0.135,0.023,11.15,46]
[{"$nulls":3},"хлеб бел.","ХЛЕБ ПШЕНИЧНЫЙ",20,1.52,0.16,9.84,47]
[{"$nulls":3},"хлеб черн.","ХЛЕБ РЖАНО - ПШЕНИЧНЫЙ",20,1,0.2,9,44]
[]
[]
[{"$nulls":3},"итого",null,{"$f":"SUM(F152:F161)","v":700},{"$f":"SUM(G152:G161)","v":44.257999999999996},{"$f":"SUM(H152:H161)","v":48.851000000000006},{"$f":"SUM(I152:I161)","v":141.69},{"$f":"SUM(J152:J161)","v":1187},null,0]
[{"$f":"A139","v":1},{"$f":"B139","v":4},"Полдник","булочное"]
[{"$nulls":3},"напиток"]
[]
[]
[{"$nulls":3},"итого",null,{"$f":"SUM(F163:F166)","v":0},{"$f":"SUM(G163:G166)","v":0},{"$f":"SUM(H163:H166)","v":0},{"$f":"SUM(I163:I166)","v":0},{"$f":"SUM(J163:J166)","v":0},null,{"$f":"SUM(L160:L166)","v":0}]
[{"$f":"A139","v":1},{"$f":"B139","v":4},"Ужин","гор.блюдо"]
[{"$nulls":3},"гарнир"]
[{"$nulls":3},"напиток"]
[{"$nulls":3},"хлеб"]
[]
[]
[{"$nulls":3},"итого",null,{"$f":"SUM(F168:F173)","v":0},{"$f":"SUM(G168:G173)","v":0},{"$f":"SUM(H168:H173)","v":0},{"$f":"SUM(I168:I173)","v":0},{"$f":"SUM(J168:J173)","v":0},null,0]
[{"$f":"A139","v":1},{"$f":"B139","v":4},"Ужин 2","кисломол."]
[{"$nulls":3},"булочное"]
[{"$nulls":3},"напиток"]
[{"$nulls":3},"фрукты"]
[]
[]
[{"$nulls":3},"итого",null,{"$f":"SUM(F175:F180)","v":0},{"$f":"SUM(G175:G180)","v":0},{"$f":"SUM(H175:H180)","v":0},{"$f":"SUM(I175:I180)","v":0},{"$f":"SUM(J175:J180)","v":0},null,0]
[{"$f":"A139","v":1},{"$f":"B139","v":4},"Итого за день:",null,null,{"$f":"F147+F151+F162+F167+F174+F181","v":1208},{"$f":"G147+G151+G162+G167+G174+G181","v":69.334},{"$f":"H147+H151+H162+H167+H174+H181","v":70.998},{"$f":"I147+I151+I162+I167+I174+I181","v":218.906},{"$f":"J147+J151+J162+J167+J174+J181","v":1804}]
[1,5,"Завтрак","гор.блюдо","КАША ВЯЗКАЯ МОЛОЧНАЯ ИЗ РИСОВОЙ КРУПЫ С МАСЛОМ","200/5",15.783,15.945,48.388,400]
[]
[]
[{"$nulls":3},"гор.напиток","ЧАЙ С САХАРОМ","200/8",0.011,0.007,7.998,32]
[{"$nulls":3},"хлеб","БУТЕРБРОД С СЫРОМ","30/10/10",7.96,12.78,25.5,249]
[{"$nulls":3},"напиток","НАПИТОК ОВСЯНЫЙ","1/200",2,1,22,100]
[{"$nulls":3},"фрукты","ПЛОДЫ И ЯГОДЫ СВЕЖИЕ (ЯБЛОКИ)",100,0.4,0.4,9.8,47]
[]
[]
[{"$nulls":3},"итого",null,{"$f":"SUM(F183:F191)","v":100},{"$f":"SUM(G183:G191)","v":26.153999999999996},{"$f":"SUM(H183:H191)","v":30.131999999999998},{"$f":"SUM(I183:I191)","v":113.68599999999999},{"$f":"SUM(J183:J191)","v":828}]
[{"$f":"A183","v":1},{"$f":"B183","v":5},"Завтрак 2","фрукты"]
[]
[]
[{"$nulls":3},"итого",null,{"$f":"SUM(F193:F195)","v":0},{"$f":"SUM(G193:G195)","v":0},{"$f":"SUM(H193:H195)","v":0},{"$f":"SUM(I193:I195)","v":0},{"$f":"SUM(J193:J195)","v":0},null,0]
[{"$f":"A183","v":1},{"$f":"B183","v":5},"Обед","закуска","САЛАТ УСПЕХ",100,4.456,10.541,1.451,119]
[{"$nulls":3},"1 блюдо","ЩИ ИЗ СВЕЖЕЙ КАПУСТЫ С КАРТОФЕЛЕМ",250,6.818,5.195,40.94,238]
[{"$nulls":3},"2 блюдо","КАРБОНАРА (СОУС) С ФИЛЕ КУРИНОЙ ГРУДКИ","50/50",14.982,18.361,4.887,245]
[{"$nulls":3},"гарнир","СПАГЕТТИ ОТВАРНЫЕ",180,6.722,6.079,43.083,254]
[{"$nulls":3},"напиток","НАПИТОК ИЗ ЗАМОРОЖЕННОЙ КЛЮКВЫ",200,"-","-",9.98,40]
[{"$nulls":3},"хлеб бел.","ХЛЕБ ПШЕНИЧНЫЙ",20,1.52,0.16,9.84,47]
[{"$nulls":3},"хлеб черн.","ХЛЕБ РЖАНО - ПШЕНИЧНЫЙ",20,1,0.2,9,44]
[{"$nulls":3},"сметана","СМЕТАНА",5,0.13,0.75,0.18,8]
[]
[{"$nulls":3},"итого",null,{"$f":"SUM(F197:F205)","v":775},{"$f":"SUM(G197:G205)","v":35.62800000000001},{"$f":"SUM(H197:H205)","v":41.286},{"$f":"SUM(I197:I205)","v":119.361},{"$f":"SUM(J197:J205)","v":995},null,0]
[{"$f":"A183","v":1},{"$f":"B183","v":5},"Полдник","булочное"]
[{"$nulls":3},"напиток"]
[]
[]
[{"$nulls":3},"итого",null,{"$f":"SUM(F207:F210)","v":0},{"$f":"SUM(G207:G210)","v":0},{"$f":"SUM(H207:H210)","v":0},{"$f":"SUM(I207:I210)","v":0},{"$f":"SUM(J207:J210)","v":0},null,{"$f":"SUM(L204:L210)","v":0}]
[{"$f":"A183","v":1},{"$f":"B183","v":5},"Ужин","гор.блюдо"]
[{"$nulls":3},"гарнир"]
[{"$nulls":3},"напиток"]
[{"$nulls":3},"хлеб"]
[]
[]
[{"$nulls":3},"итого",null,{"$f":"SUM(F212:F217)","v":0},{"$f":"SUM(G212:G217)","v":0},{"$f":"SUM(H212:H217)","v":0},{"$f":"SUM(I212:I217)","v":0},{"$f":"SUM(J212:J217)","v":0},null,0]
[{"$f":"A183","v":1},{"$f":"B183","v":5},"Ужин 2","кисломол."]
[{"$nulls":3},"булочное"]
[{"$nulls":3},"напиток"]
[{"$nulls":3},"фрукты"]
[]
[]
[{"$nulls":3},"итого",null,{"$f":"SUM(F219:F224)","v":0},{"$f":"SUM(G219:G224)","v":0},{"$f":"SUM(H219:H224)","v":0},{"$f":"SUM(I219:I224)","v":0},{"$f":"SUM(J219:J224)","v":0},null,0]
[{"$f":"A183","v":1},{"$f":"B183","v":5},"Итого за день:",null,null,{"$f":"F192+F196+F206+F211+F218+F225","v":875},{"$f":"G192+G196+G206+G211+G218+G225","v":61.782000000000004},{"$f":"H192+H196+H206+H211+H218+H225","v":71.418},{"$f":"I192+I196+I206+I211+I218+I225","v":233.047},{"$f":"J192+J196+J206+J211+J218+J225","v":1823}]
[1,6,"Завтрак","гор.блюдо","КАША ВЯЗКАЯ МОЛОЧНАЯ ИЗ ГЕРКУЛЕСОВОЙ КРУПЫ С МАСЛОМ","200/5",14.952,16.993,45.92,396]
[{"$nulls":3},"сырники","СЫРНИКИ \"КЛАССИЧЕСКИЕ\" со сгущенным молоком","70/10",18.876,17.98,24.852,337]
[{"$nulls":3},"гор.напиток","ЧАЙ С САХАРОМ","200/8",0.011,0.007,7.998,32]
[{"$nulls":3},"хлеб","БАТОН",30,2.25,0.87,15.42,79]
[]
[{"$nulls":3},"фрукты","ПЛОДЫ И ЯГОДЫ СВЕЖИЕ (АПЕЛЬСИНЫ)",{"$f":"[1]Лист1!$G$23","v":120},1.08,0.24,9.72,52]
[]
[]
[{"$nulls":3},"итого",null,{"$f":"SUM(F227:F234)","v":150},{"$f":"SUM(G227:G234)","v":37.169000000000004},{"$f":"SUM(H227:H234)","v":36.089999999999996},{"$f":"SUM(I227:I234)","v":103.91000000000001},{"$f":"SUM(J227:J234)","v":896}]
[{"$f":"A227","v":1},{"$f":"B227","v":6},"Завтрак 2","фрукты"]
[]
[]
[{"$nulls":3},"итого",null,{"$f":"SUM(F236:F238)","v":0},{"$f":"SUM(G236:G238)","v":0},{"$f":"SUM(H236:H238)","v":0},{"$f":"SUM(I236:I238)","v":0},{"$f":"SUM(J236:J238)","v":0},null,0]
[{"$f":"A227","v":1},{"$f":"B227","v":6},"Обед","закуска","САЛАТ ИЗ СВЕЖИХ ОГУРЦОВ",100,0.665,6.089,1.805,64]
[{"$nulls":3},"1 блюдо","СУП КАРТОФЕЛЬНЫЙ С КРУПОЙ (рис)",250,8.12,4.878,47.435,266]
[{"$nulls":3},"2 блюдо","ПЕЛЬМЕНИ ДЛЯ УМНИКОВ И УМНИЦ ОТВАРНЫЕ С МАСЛОМ СЛИВОЧНЫМ","200/5",22.716,21.773,52.104,495]
[{"$nulls":3},"печенье","ПЕЧЕНЬЕ СДОБНОЕ ВКУСНОЕ",30,2.216,8.233,18.848,158]
[{"$nulls":3},"напиток","НАПИТОК ИЗ ВИШНИ",200,0.12,0.03,11.57,48]
[{"$nulls":3},"хлеб бел.","ХЛЕБ ПШЕНИЧНЫЙ",20,1.52,0.16,9.84,47]
[{"$nulls":3},"хлеб черн.","ХЛЕБ РЖАНО - ПШЕНИЧНЫЙ",20,1,0.2,9,44]
[]
[]
[{"$nulls":3},"итого",null,{"$f":"SUM(F240:F248)","v":620},{"$f":"SUM(G240:G248)","v":36.357},{"$f":"SUM(H240:H248)","v":41.363},{"$f":"SUM(I240:I248)","v":150.602},{"$f":"SUM(J240:J248)","v":1122},null,0]
[{"$f":"A227","v":1},{"$f":"B227","v":6},"Полдник","булочное"]
[{"$nulls":3},"напиток"]
[]
[]
[{"$nulls":3},"итого",null,{"$f":"SUM(F250:F253)","v":0},{"$f":"SUM(G250:G253)","v":0},{"$f":"SUM(H250:H253)","v":0},{"$f":"SUM(I250:I253)","v":0},{"$f":"SUM(J250:J253)","v":0},null,{"$f":"SUM(L247:L253)","v":0}]
[{"$f":"A227","v":1},{"$f":"B227","v":6},"Ужин","гор.блюдо"]
[{"$nulls":3},"гарнир"]
[{"$nulls":3},"напиток"]
[{"$nulls":3},"хлеб"]
[]
[]
[{"$nulls":3},"итого",null,{"$f":"SUM(F255:F260)","v":0},{"$f":"SUM(G255:G260)","v":0},{"$f":"SUM(H255:H260)","v":0},{"$f":"SUM(I255:I260)","v":0},{"$f":"SUM(J255:J260)","v":0},null,0]
[{"$f":"A227","v":1},{"$f":"B227","v":6},"Ужин 2","кисломол."]
[{"$nulls":3},"булочное"]
[{"$nulls":3},"напиток"]
[{"$nulls":3},"фрукты"]
[]
[]
[{"$nulls":3},"итого",null,{"$f":"SUM(F262:F267)","v":0},{"$f":"SUM(G262:G267)","v":0},{"$f":"SUM(H262:H267)","v":0},{"$f":"SUM(I262:I267)","v":0},{"$f":"SUM(J262:J267)","v":0},null,0]
[{"$f":"A227","v":1},{"$f":"B227","v":6},"Итого за день:",null,null,{"$f":"F235+F239+F249+F254+F261+F268","v":770},{"$f":"G235+G239+G249+G254+G261+G268","v":73.52600000000001},{"$f":"H235+H239+H249+H254+H261+H268","v":77.453},{"$f":"I235+I239+I249+I254+I261+I268","v":254.512},{"$f":"J235+J239+J249+J254+J261+J268","v":2018},null,{"$f":"L235+L239+L249+L254+L261+L268","v":0}]
[1,7,"Завтрак","гор.блюдо"]
[]
[{"$nulls":3},"гор.напиток"]
[{"$nulls":3},"хлеб"]
[{"$nulls":3},"фрукты"]
[]
[]
[{"$nulls":3},"итого",null,{"$f":"SUM(F270:F276)","v":0},{"$f":"SUM(G270:G276)","v":0},{"$f":"SUM(H270:H276)","v":0},{"$f":"SUM(I270:I276)","v":0},{"$f":"SUM(J270:J276)","v":0},null,{"$f":"SUM(L270:L276)","v":0}]
[{"$f":"A270","v":1},{"$f":"B270","v":7},"Завтрак 2","фрукты"]
[]
[]
[{"$nulls":3},"итого",null,{"$f":"SUM(F278:F280)","v":0},{"$f":"SUM(G278:G280)","v":0},{"$f":"SUM(H278:H280)","v":0},{"$f":"SUM(I278:I280)","v":0},{"$f":"SUM(J278:J280)","v":0},null,0]
[{"$f":"A270","v":1},{"$f":"B270","v":7},"Обед","закуска"]
[{"$nulls":3},"1 блюдо"]
[{"$nulls":3},"2 блюдо"]
[{"$nulls":3},"гарнир"]
[{"$nulls":3},"напиток"]
[{"$nulls":3},"хлеб бел."]
[{"$nulls":3},"хлеб черн."]
[]
[]
[{"$nulls":3},"итого",null,{"$f":"SUM(F282:F290)","v":0},{"$f":"SUM(G282:G290)","v":0},{"$f":"SUM(H282:H290)","v":0},{"$f":"SUM(I282:I290)","v":0},{"$f":"SUM(J282:J290)","v":0},null,0]
[{"$f":"A270","v":1},{"$f":"B270","v":7},"Полдник","булочное"]
[{"$nulls":3},"напиток"]
[]
[]
[{"$nulls":3},"итого",null,{"$f":"SUM(F292:F295)","v":0},{"$f":"SUM(G292:G295)","v":0},{"$f":"SUM(H292:H295)","v":0},{"$f":"SUM(I292:I295)","v":0},{"$f":"SUM(J292:J295)","v":0},null,{"$f":"SUM(L289:L295)","v":0}]
[{"$f":"A270","v":1},{"$f":"B270","v":7},"Ужин","гор.блюдо"]
[{"$nulls":3},"гарнир"]
[{"$nulls":3},"напиток"]
[{"$nulls":3},"хлеб"]
[]
[]
[{"$nulls":3},"итого",null,{"$f":"SUM(F297:F302)","v":0},{"$f":"SUM(G297:G302)","v":0},{"$f":"SUM(H297:H302)","v":0},{"$f":"SUM(I297:I302)","v":0},{"$f":"SUM(J297:J302)","v":0},null,0]
[{"$f":"A270","v":1},{"$f":"B270","v":7},"Ужин 2","кисломол."]
[{"$nulls":3},"булочное"]
[{"$nulls":3},"напиток"]
[{"$nulls":3},"фрукты"]
[]
[]
[{"$nulls":3},"итого",null,{"$f":"SUM(F304:F309)","v":0},{"$f":"SUM(G304:G309)","v":0},{"$f":"SUM(H304:H309)","v":0},{"$f":"SUM(I304:I309)","v":0},{"$f":"SUM(J304:J309)","v":0},null,0]
[{"$f":"A270","v":1},{"$f":"B270","v":7},"Итого за день:",null,null,{"$f":"F277+F281+F291+F296+F303+F310","v":0},{"$f":"G277+G281+G291+G296+G303+G310","v":0},{"$f":"H277+H281+H291+H296+H303+H310","v":0},{"$f":"I277+I281+I291+I296+I303+I310","v":0},{"$f":"J277+J281+J291+J296+J303+J310","v":0},null,{"$f":"L277+L281+L291+L296+L303+L310","v":0}]
[2,1,"Завтрак","фрукты","ПЛОДЫ И ЯГОДЫ СВЕЖИЕ (АПЕЛЬСИНЫ)",120,1.08,0.24,9.72,52,"№338/2015г Дели"]
[{"$nulls":3},"гор.блюдо","КАША ВЯЗКАЯ МОЛОЧНАЯ ИЗ РИСОВОЙ И ПШЁННОЙ КРУПЫ С МАСЛОМ","200/5",14.734,15.962,42.563,373,"№175/2015 г Дели"]
[{"$nulls":4},"ОЛАДЬИ - СЭНДВИЧ С ВАРЕНЫМ СГУЩЕНЫМ",55,0.011,0.007,7.998,32,"ТТК от 2025"]
[{"$nulls":3},"гор.напиток","ЧАЙ С САХАРОМ","200/8",0.33,0.06,1.14,7,"Акт от 2021г"]
[{"$nulls":3},"хлеб","БАТОН",30,1.52,0.16,9.84,47]
[{"$nulls":3},"напиток","МИНЕРАЛЬНАЯ ВОДА б/газа","1/500",1,0.2,9,44]
[{"$nulls":5},120,0.48,0.48,11.76,56,"№ 338"]
[]
[{"$nulls":3},"итого",null,518,{"$f":"SUM(G312:G319)","v":19.154999999999998},17.108999999999998,92.021,611]
[{"$f":"A312","v":2},{"$f":"B312","v":1},"Завтрак 2","фрукты"]
[]
[]
[{"$nulls":3},"итого",null,{"$f":"SUM(F321:F323)","v":0},{"$f":"SUM(G321:G323)","v":0},0,0,0,null,{"$f":"SUM(L321:L323)","v":0}]
[{"$f":"A312","v":2},{"$f":"B312","v":1},"Обед","закуска","САЛАТ КАПРИЗ",100,2.679,12.047,5.685,144,"ТТК)Акт к/пр от 10.10.2016"]
[{"$nulls":3},"1 блюдо","СУП ИЗ ОВОЩЕЙ",250,2.863,2.261,42.592,202,"№99/2015г.Дели"]
[{"$nulls":3},"2 блюдо","ФРИКАДЕЛЬКИ МЯСНЫЕ ДЛЯ СУПОВ",11,2.246,1.902,0.246,27,"ТТК 2022"]
[{"$nulls":3},"сметана","СМЕТАНА",5,0.13,0.75,0.18,8,"ТТК"]
[{"$nulls":3},"наггетсы","НАГГЕТСЫ КУРИНЫЕ",100,23.063,25.88,14.263,382,"ТТК от 2025"]
[{"$nulls":3},"гарнир","МАКАРОННЫЕ ИЗДЕЛИЯ ОТВАРНЫЕ",150,5.602,5.068,35.906,212,"№309/2015 г.Дели"]
[{"$nulls":3},"напиток","НАПИТОК ИЗ ВИШНИ",200,0.12,0.03,11.57,48,"ТТК №2594 от 14.09.2023"]
[{"$nulls":3},"хлеб бел.","ХЛЕБ РЖАНО - ПШЕНИЧНЫЙ",20,1,0.2,9,44]
[{"$nulls":3},"хлеб черн.","ХЛЕБ ПШЕНИЧНЫЙ",20,1.52,0.16,9.84,47]
[{"$nulls":3},"итого",null,{"$f":"SUM(F325:F333)","v":856},{"$f":"SUM(G325:G333)","v":39.223},48.298,129.282,1114,null,{"$f":"SUM(L325:L333)","v":0}]
[{"$f":"A312","v":2},{"$f":"B312","v":1},"Полдник","булочное"]
[{"$nulls":3},"напиток"]
[]
[]
[{"$nulls":3},"итого",null,{"$f":"SUM(F335:F338)","v":0},{"$f":"SUM(G335:G338)","v":0},0,0,0,null,{"$f":"SUM(L335:L338)","v":0}]
[{"$f":"A312","v":2},{"$f":"B312","v":1},"Ужин","гор.блюдо"]
[{"$nulls":3},"гарнир"]
[{"$nulls":3},"напиток"]
[{"$nulls":3},"хлеб"]
[]
[]
[{"$nulls":3},"итого",null,{"$f":"SUM(F340:F345)","v":0},{"$f":"SUM(G340:G345)","v":0},0,0,0,null,{"$f":"SUM(L340:L345)","v":0}]
[{"$f":"A312","v":2},{"$f":"B312","v":1},"Ужин 2","кисломол."]
[{"$nulls":3},"булочное"]
[{"$nulls":3},"напиток"]
[{"$nulls":3},"фрукты"]
[]
[]
[{"$nulls":3},"итого",null,{"$f":"SUM(F347:F352)","v":0},{"$f":"SUM(G347:G352)","v":0},0,0,0,null,{"$f":"SUM(L347:L352)","v":0}]
[{"$f":"A312","v":2},{"$f":"B312","v":1},"Итого за день:",null,null,{"$f":"F320+F324+F334+F339+F346+F353","v":1374},{"$f":"G320+G324+G334+G339+G346+G353","v":58.378},65.407,221.303,1725,null,{"$f":"L320+L324+L334+L339+L346+L353","v":0}]
[2,2,"Завтрак","фруткы","ПЛОДЫ И ЯГОДЫ СВЕЖИЕ (ЯБЛОКИ)",100,0.4,0.4,9.8,47,"№338 Дели 2015"]
[{"$nulls":4},"СЫРНИКИ \"КЛАССИЧЕСКИЕ\" со сгущенным молоком","35/5",9.348,8.99,12.426,168,"ТТК(АТК к/пр от 26.02.2017"]
[{"$nulls":3},"гор. Блюдо","КАША ВЯЗКАЯ МОЛОЧНАЯ ИЗ ГЕРКУЛЕСОВОЙ КРУПЫ С МАСЛОМ","200/5",14.952,16.993,45.92,305,"№ 173/2015г Дели"]
[{"$nulls":3},"гор. Напиток","ЧАЙ С САХАРОМ","200/8",0.011,0.007,7.998,32,"ТТК 2021"]
[{"$nulls":3},"хлеб","БАТОН",30,2.25,0.87,15.42,79]
[{"$nulls":3},"напиток","МИНЕРАЛЬНАЯ ВОДА б/газа","1/500","-","-","-","-"]
[{"$nulls":6},23.314,23.115,84.355,626]
[{"$nulls":3},"итого",null,568,{"$f":"SUM(G355:G361)","v":50.275000000000006},50.375,175.919,1257]
[{"$f":"A355","v":2},{"$f":"B355","v":2},"Завтрак 2","фрукты"]
[]
[]
[{"$nulls":3},"итого",null,{"$f":"SUM(F363:F365)","v":0},{"$f":"SUM(G363:G365)","v":0},0,0,0,null,{"$f":"SUM(L363:L365)","v":0}]
[{"$f":"A355","v":2},{"$f":"B355","v":2},"Обед","закуска","ОВОЩНЫЕ ПАЛОЧКИ ИЗ ОГУРЦОВ",100,0.7,0.1,1.9,11,"ТТК 21444 от 28.05.2021"]
[{"$nulls":3},"1 блюдо","СУП ГОРОХОВЫЙ С ГРЕНКАМИ","250/10",12.76,8.485,36.925,283,"№243 сбор.рецепт 1983г"]
[{"$nulls":3},"2 блюдо","БИФШТЕКС РУБЛЕНЫЙ ПО- ДОМАШНЕМУ ЗАПЕЧЕННЫЙ С ПОМИДОРАМИ И СЫРОМ","90/10/10",16.323,20.227,14.339,305,"ТТК от 2025"]
[{"$nulls":3},"гарнир","ПЮРЕ КАРТОФЕЛЬНОЕ",180,4.124,5.467,40.141,226,"№312/2015 г Дели"]
[{"$nulls":3},"напиток","НАПИТОК ИЗ УРЮКА",200,0.8,0.064,18.46,79,"ТТк № 2693 от 14.09.2023"]
[{"$nulls":3},"хлеб бел.","ХЛЕБ РЖАНО - ПШЕНИЧНЫЙ",20,1,0.2,9,44]
[{"$nulls":3},"хлеб черн.","ХЛЕБ ПШЕНИЧНЫЙ",20,1.52,0.16,9.84,47]
[]
[]
[{"$nulls":3},"итого",null,{"$f":"SUM(F367:F375)","v":520},{"$f":"SUM(G367:G375)","v":37.227000000000004},34.702999999999996,130.605,995,null,{"$f":"SUM(L367:L375)","v":0}]
[{"$f":"A355","v":2},{"$f":"B355","v":2},"Полдник","булочное"]
[{"$nulls":3},"напиток"]
[]
[]
[{"$nulls":3},"итого",null,{"$f":"SUM(F377:F380)","v":0},{"$f":"SUM(G377:G380)","v":0},0,0,0,null,{"$f":"SUM(L374:L380)","v":0}]
[{"$f":"A355","v":2},{"$f":"B355","v":2},"Ужин","гор.блюдо"]
[{"$nulls":3},"гарнир"]
[{"$nulls":3},"напиток"]
[{"$nulls":3},"хлеб"]
[]
[]
[{"$nulls":3},"итого",null,{"$f":"SUM(F382:F387)","v":0},{"$f":"SUM(G382:G387)","v":0},0,0,0,null,{"$f":"SUM(L382:L387)","v":0}]
[{"$f":"A355","v":2},{"$f":"B355","v":2},"Ужин 2","кисломол."]
[{"$nulls":3},"булочное"]
[{"$nulls":3},"напиток"]
[{"$nulls":3},"фрукты"]
[]
[]
[{"$nulls":3},"итого",null,{"$f":"SUM(F389:F394)","v":0},{"$f":"SUM(G389:G394)","v":0},0,0,0,null,{"$f":"SUM(L389:L394)","v":0}]
[{"$f":"A355","v":2},{"$f":"B355","v":2},"Итого за день:",null,null,{"$f":"F362+F366+F376+F381+F388+F395","v":1088},{"$f":"G362+G366+G376+G381+G388+G395","v":87.50200000000001},85.078,306.524,2252,null,{"$f":"L362+L366+L376+L381+L388+L395","v":0}]
[2,3,"Завтрак","фрукты","ПЛОДЫ И ЯГОДЫ СВЕЖИЕ (АПЕЛЬСИНЫ)",120,1.08,0.24,9.72,52,"ТТК от 1Ноября 2022 г"]
[{"$nulls":3},"гор. Блюдо","КАША ВЯЗКАЯ МОЛОЧНАЯ ИЗ РИСОВОЙ КРУПЫ С МАСЛОМ","200/5",15.783,15.945,48.388,400,"№202/2015г,Дели"]
[{"$nulls":4},"ОЛАДЬИ СО СГУЩЕНЫМ МОЛОКОМ 2 шт/60/10 г ( из п/ф 36 г)","70г",7.98,8.933,18.563,187,"№52/2015г,Дели"]
[{"$nulls":3},"гор.напиток","ЧАЙ С САХАРОМ","200/8",0.011,0.007,7.998,32,"ТТК 2021г"]
[{"$nulls":3},"хлеб","БАТОН",30,2.25,0.87,15.42,79]
[{"$nulls":6},"-","-","-","-"]
[]
[{"$nulls":3},"итого",null,518,{"$f":"SUM(G397:G403)","v":27.104},25.995,100.089,750,null,66.76]
[{"$f":"A397","v":2},{"$f":"B397","v":3},"Завтрак 2","фрукты"]
[]
[]
[{"$nulls":3},"итого",null,{"$f":"SUM(F405:F407)","v":0},{"$f":"SUM(G405:G407)","v":0},0,0,0,null,{"$f":"SUM(L405:L407)","v":0}]
[{"$f":"A397","v":2},{"$f":"B397","v":3},"Обед","закуска","САЛАТ ИЗ СВЕЖИХ ПОМИДОРОВ (без лука)",100,0.627,3.71,2.166,46,"323/2015г Дели"]
[{"$nulls":3},"1 блюдо","БОРЩ С КАПУСТОЙ И КАРТОФЕЛЕМ",250,1.775,5.166,41.9,221,"№62/2015г Дели"]
[{"$nulls":3},"сметана","СМЕТАНА",5,0.13,0.75,0.18,8,"ТТК"]
[{"$nulls":3},"2 блюдо","МЕДАЛЬОНЫ ИЗ КУРИНЫХ ГРУДОК","80/30",25.274,29.547,8.456,401,"ТТК от 2025"]
[{"$nulls":3},"гарнир","СПАГЕТТИ ОТВАРНЫЕ",180,6.722,6.079,43.083,254,"ТТК от 2016"]
[{"$nulls":3},"напиток","КОМПОТ ИЗ ЗАМОРОЖЕННОЙ КОМПОТНОЙ СМЕСИ",200,0.135,0.023,11.15,46,"ТТК от 2021"]
[{"$nulls":3},"хлеб бел.","ХЛЕБ РЖАНО - ПШЕНИЧНЫЙ",20,1,0.2,9,44]
[{"$nulls":3},"хлеб черн.","ХЛЕБ ПШЕНИЧНЫЙ",20,1.52,0.16,9.84,47]
[]
[{"$nulls":3},"итого",null,{"$f":"SUM(F409:F417)","v":775},{"$f":"SUM(G409:G417)","v":37.183},45.635000000000005,125.775,1067,null,{"$f":"SUM(L409:L417)","v":0}]
[{"$f":"A397","v":2},{"$f":"B397","v":3},"Полдник","булочное"]
[{"$nulls":3},"напиток"]
[]
[]
[{"$nulls":3},"итого",null,{"$f":"SUM(F419:F422)","v":0},{"$f":"SUM(G419:G422)","v":0},0,0,0,null,{"$f":"SUM(L416:L422)","v":0}]
[{"$f":"A397","v":2},{"$f":"B397","v":3},"Ужин","гор.блюдо"]
[{"$nulls":3},"гарнир"]
[{"$nulls":3},"напиток"]
[{"$nulls":3},"хлеб"]
[]
[]
[{"$nulls":3},"итого",null,{"$f":"SUM(F424:F429)","v":0},{"$f":"SUM(G424:G429)","v":0},0,0,0,null,{"$f":"SUM(L424:L429)","v":0}]
[{"$f":"A397","v":2},{"$f":"B397","v":3},"Ужин 2","кисломол."]
[{"$nulls":3},"булочное"]
[{"$nulls":3},"напиток"]
[{"$nulls":3},"фрукты"]
[]
[]
[{"$nulls":3},"итого",null,{"$f":"SUM(F431:F436)","v":0},{"$f":"SUM(G431:G436)","v":0},0,0,0,null,{"$f":"SUM(L431:L436)","v":0}]
[{"$f":"A397","v":2},{"$f":"B397","v":3},"Итого за день:",null,null,{"$f":"F404+F408+F418+F423+F430+F437","v":1293},{"$f":"G404+G408+G418+G423+G430+G437","v":64.287},71.63000000000001,225.864,1817]
[2,4,"Завтрак","фрукты","ПЛОДЫ И ЯГОДЫ СВЕЖИЕ (ЯБЛОКИ)",100,0.4,0.4,9.8,47,"№338 Дели 2015"]
[{"$nulls":3},"хлеб","БУТЕРБРОД С СЫРОМ, МАСЛОМ","30/10/10",7.96,12.78,25.5,249,"№3/2015г Дели"]
[{"$nulls":3},"гор.блюдо","КАША ВЯЗКАЯ МОЛОЧНАЯ ИЗ ПШЁННОЙ КРУПЫ С МАСЛОМ","200/5",17.79,17.04,44.078,401,"ТТК № 173/2015 г Дели"]
[{"$nulls":5},"200/8",0.011,0.007,7.998,32]
[{"$nulls":3},"напиток","МИНЕРАЛЬНАЯ ВОДА б/газа","1/500","-","-","-","-","ТТК  2021"]
[]
[]
[{"$nulls":3},"итого",null,500,{"$f":"SUM(G439:G445)","v":26.160999999999998},30.227,87.376,729]
[{"$f":"A439","v":2},{"$f":"B439","v":4},"Завтрак 2","фрукты"]
[]
[]
[{"$nulls":3},"итого",null,{"$f":"SUM(F447:F449)","v":0},{"$f":"SUM(G447:G449)","v":0},0,0,0,null,{"$f":"SUM(L447:L449)","v":0}]
[{"$f":"A439","v":2},{"$f":"B439","v":4},"Обед","закуска","АССОРТИ ОВОЩНОЕ (помидоры, огурцы, свежие, масло растительное)","45/45/10",0.81,10.125,2.565,106,"ТТК"]
[{"$nulls":3},"1 блюдо","СУП КАРТОФЕЛЬНЫЙ С ВЕРМИШЕЛЬЮ (гр.А)",250,6.86,4.048,44.875,243,"№103/2015г Дели"]
[{"$nulls":3},"2 блюдо","ГРУДКИ КУРИНЫЕ ОТВАРНЫЕ (филе)",30,7.181,6.182,"-",84,"ТТК9по акту)"]
[{"$nulls":3},"гарнир","ПЛОВ С ГОВЯДИНОЙ","50/150",20.196,23.597,49.009,489,"ТТК 2021 г июль"]
[{"$nulls":3},"напиток","КОМПОТ ИЗ СВЕЖИХ ПЛОДОВ (ЯБЛОКИ)",200,0.08,0.08,11.94,49,"ТТК от 2021"]
[{"$nulls":3},"хлеб бел.","ХЛЕБ РЖАНО - ПШЕНИЧНЫЙ",20,1,0.2,9,44]
[{"$nulls":3},"хлеб черн.","ХЛЕБ ПШЕНИЧНЫЙ",20,1.52,0.16,9.84,47]
[]
[]
[{"$nulls":3},"итого",null,{"$f":"SUM(F451:F459)","v":520},{"$f":"SUM(G451:G459)","v":37.647},44.391999999999996,127.229,1062,null,{"$f":"SUM(L451:L459)","v":0}]
[{"$f":"A439","v":2},{"$f":"B439","v":4},"Полдник","булочное"]
[{"$nulls":3},"напиток"]
[]
[]
[{"$nulls":3},"итого",null,{"$f":"SUM(F461:F464)","v":0},{"$f":"SUM(G461:G464)","v":0},0,0,0,null,{"$f":"SUM(L458:L464)","v":0}]
[{"$f":"A439","v":2},{"$f":"B439","v":4},"Ужин","гор.блюдо"]
[{"$nulls":3},"гарнир"]
[{"$nulls":3},"напиток"]
[{"$nulls":3},"хлеб"]
[]
[]
[{"$nulls":3},"итого",null,{"$f":"SUM(F466:F471)","v":0},{"$f":"SUM(G466:G471)","v":0},0,0,0,null,{"$f":"SUM(L466:L471)","v":0}]
[{"$f":"A439","v":2},{"$f":"B439","v":4},"Ужин 2","кисломол."]
[{"$nulls":3},"булочное"]
[{"$nulls":3},"напиток"]
[{"$nulls":3},"фрукты"]
[]
[]
[{"$nulls":3},"итого",null,{"$f":"SUM(F473:F478)","v":0},{"$f":"SUM(G473:G478)","v":0},0,0,0,null,{"$f":"SUM(L473:L478)","v":0}]
[{"$f":"A439","v":2},{"$f":"B439","v":4},"Итого за день:",null,null,{"$f":"F446+F450+F460+F465+F472+F479","v":1020},{"$f":"G446+G450+G460+G465+G472+G479","v":63.80799999999999},74.619,214.60500000000002,1791,null,{"$f":"L446+L450+L460+L465+L472+L479","v":0}]
[2,5,"Завтрак","сыр","СЫР ПОРЦИЯМИ",15,3.945,3.99,null,53,"№15/2015г.Дели"]
[{"$nulls":3},"фрукты","ПЛОДЫ И ЯГОДЫ СВЕЖИЕ (АПЕЛЬСИНЫ)",120,1.08,0.24,9.72,52,"№338/2015г Дели"]
[{"$nulls":3},"гор.блюдо","КАША ВЯЗКАЯ МОЛОЧНАЯ ИЗ ПОЛБЯНОЙ КРУПЫ С МАСЛОМ","200/5",16.876,16.211,48.399,407,"ТТК"]
[{"$nulls":3},"гор.напиток","ЧАЙ С САХАРОМ","200/8",0.011,0.007,7.998,32,"ТТК от 2021г"]
[{"$nulls":3},"вафли","ВАФЛИ ВЕСОВЫЕ 2 шт/",42,1.638,12.852,26.25,228]
[{"$nulls":3},"хлеб","БАТОН",30,2.25,0.87,15.42,79]
[{"$nulls":5},"-","-","-","-"]
[{"$nulls":3},"итого",null,540,{"$f":"SUM(G481:G487)","v":25.800000000000004},34.169999999999995,107.787,851]
[{"$f":"A481","v":2},{"$f":"B481","v":5},"Завтрак 2","фрукты"]
[]
[]
[{"$nulls":3},"итого",null,{"$f":"SUM(F489:F491)","v":0},{"$f":"SUM(G489:G491)","v":0},0,0,0,null,{"$f":"SUM(L489:L491)","v":0}]
[{"$f":"A481","v":2},{"$f":"B481","v":5},"Обед","закуска","САЛАТ УСПЕХ",100,4.456,10.541,1.451,119,"ТТК(Акт к/пр от 09.08.2017"]
[{"$nulls":3},"1 блюдо","ЩИ ИЗ СВЕЖЕЙ КАПУСТЫ С КАРТОФЕЛЕМ",250,6.818,5.195,40.94,238,"№88/2015г Дели"]
[{"$nulls":3},"2 блюдо","ГРУДКА КУРИНАЯ (филе) ПО- ФРАНЦУЗСКИ",200,20.899,32.115,34.787,512,"ТТК9Акт от 10.07.2019г Комбин"]
[{"$nulls":3},"сметана","СМЕТАНА",5,0.13,0.75,0.18,8,"ТТК"]
[{"$nulls":3},"напиток","НАПИТОК ИЗ УРЮКА",200,0.8,0.064,18.46,79,"ТТк №2693 от 14.09.2023"]
[{"$nulls":3},"хлеб бел.","ХЛЕБ РЖАНО - ПШЕНИЧНЫЙ",25,1.25,0.25,11.25,55]
[{"$nulls":3},"хлеб черн.","ХЛЕБ ПШЕНИЧНЫЙ",20,1.52,0.16,9.84,47]
[]
[{"$nulls":3},"итого",null,{"$f":"SUM(F493:F500)","v":800},{"$f":"SUM(G493:G500)","v":35.873000000000005},{"$f":"SUM(H493:H500)","v":49.074999999999996},{"$f":"SUM(I493:I500)","v":116.90800000000002},{"$f":"SUM(J493:J500)","v":1058},null,{"$f":"SUM(L493:L500)","v":0}]
[{"$f":"A481","v":2},{"$f":"B481","v":5},"Полдник","булочное"]
[{"$nulls":3},"напиток"]
[]
[]
[{"$nulls":3},"итого",null,{"$f":"SUM(F502:F505)","v":0},{"$f":"SUM(G502:G505)","v":0},0,0,0,null,{"$f":"SUM(L499:L505)","v":0}]
[{"$f":"A481","v":2},{"$f":"B481","v":5},"Ужин","гор.блюдо"]
[{"$nulls":3},"гарнир"]
[{"$nulls":3},"напиток"]
[{"$nulls":3},"хлеб"]
[]
[]
[{"$nulls":3},"итого",null,{"$f":"SUM(F507:F512)","v":0},{"$f":"SUM(G507:G512)","v":0},0,0,0,null,{"$f":"SUM(L507:L512)","v":0}]
[{"$f":"A481","v":2},{"$f":"B481","v":5},"Ужин 2","кисломол."]
[{"$nulls":3},"булочное"]
[{"$nulls":3},"напиток"]
[{"$nulls":3},"фрукты"]
[]
[]
[{"$nulls":3},"итого",null,{"$f":"SUM(F514:F519)","v":0},{"$f":"SUM(G514:G519)","v":0},0,0,0,null,{"$f":"SUM(L514:L519)","v":0}]
[{"$f":"A481","v":2},{"$f":"B481","v":5},"Итого за день:",null,null,{"$f":"F488+F492+F501+F506+F513+F520","v":1340},{"$f":"G488+G492+G501+G506+G513+G520","v":61.67300000000001},{"$f":"H488+H492+H501+H506+H513+H520","v":83.24499999999999},{"$f":"I488+I492+I501+I506+I513+I520","v":224.69500000000002},{"$f":"J488+J492+J501+J506+J513+J520","v":1909},null,{"$f":"L488+L492+L501+L506+L513+L520","v":0}]
[2,6,"Завтрак","фрукты","ПЛОДЫ И ЯГОДЫ СВЕЖИЕ (АПЕЛЬСИНЫ)",120,1.08,0.24,9.72,52]
[{"$nulls":3},"гор.блюдо","КАША ВЯЗКАЯ МОЛОЧНАЯ ИЗ ГЕРКУЛЕСОВОЙ КРУПЫ С МАСЛОМ","150/5",11.305,12.848,34.72,300]
[{"$nulls":3},"сырники","СЫРНИКИ \"КЛАССИЧЕСКИЕ\" со сгущенным молоком","70/10",18.876,17.98,24.852,337]
[{"$nulls":3},"гор.напиток","ЧАЙ С САХАРОМ","200/8",0.011,0.007,7.998,32]
[{"$nulls":3},"хлеб","БАТОН",30,2.25,0.87,15.42,79]
[{"$nulls":3},"напиток","МИНЕРАЛЬНАЯ ВОДА б/газа","1/500","-","-","-","-"]
[]
[{"$nulls":3},"итого",null,{"$f":"SUM(F522:F528)","v":150},{"$f":"SUM(G522:G528)","v":33.522000000000006},31.945000000000004,92.71000000000001,800,null,{"$f":"SUM(L522:L528)","v":0}]
[{"$f":"A522","v":2},{"$f":"B522","v":6},"Завтрак 2","фрукты"]
[]
[]
[{"$nulls":3},"итого",null,{"$f":"SUM(F530:F532)","v":0},{"$f":"SUM(G530:G532)","v":0},0,0,0,null,{"$f":"SUM(L530:L532)","v":0}]
[{"$f":"A522","v":2},{"$f":"B522","v":6},"Обед","закуска","САЛАТ ИЗ СВЕЖИХ ОГУРЦОВ",60,0.399,3.653,1.083,39]
[{"$nulls":3},"1 блюдо","СУП КАРТОФЕЛЬНЫЙ С КРУПОЙ (рис)",200,6.496,3.83,37.948,212]
[{"$nulls":3},"2 блюдо","ПЕЛЬМЕНИ ДЛЯ УМНИКОВ И УМНИЦ ОТВАРНЫЕ С МАСЛОМ","180/5",20.5,19.649,47.021,447]
[{"$nulls":3},"напиток","НАПИТОК ИЗ ВИШНИ",200,0.12,0.03,11.57,48]
[{"$nulls":3},"печенье","ПЕЧЕНЬЕ СДОБНОЕ АМЕРИКАНЕР С КУНЖУТОМ",30,2.493,8.628,18.541,162]
[{"$nulls":3},"хлеб бел.","ХЛЕБ РЖАНО-ПШЕНИЧНЫЙ",20,1,0.2,9,44]
[{"$nulls":3},"хлеб черн.","ХЛЕБ ПШЕНИЧНЫЙ",20,1.52,0.16,9.84,47]
[]
[]
[{"$nulls":3},"итого",null,{"$f":"SUM(F534:F542)","v":530},{"$f":"SUM(G534:G542)","v":32.528},36.150000000000006,135.003,999,null,{"$f":"SUM(L534:L542)","v":0}]
[{"$f":"A522","v":2},{"$f":"B522","v":6},"Полдник","булочное"]
[{"$nulls":3},"напиток"]
[]
[]
[{"$nulls":3},"итого",null,{"$f":"SUM(F544:F547)","v":0},{"$f":"SUM(G544:G547)","v":0},0,0,0,null,{"$f":"SUM(L541:L547)","v":0}]
[{"$f":"A522","v":2},{"$f":"B522","v":6},"Ужин","гор.блюдо"]
[{"$nulls":3},"гарнир"]
[{"$nulls":3},"напиток"]
[{"$nulls":3},"хлеб"]
[]
[]
[{"$nulls":3},"итого",null,{"$f":"SUM(F549:F554)","v":0},{"$f":"SUM(G549:G554)","v":0},0,0,0,null,{"$f":"SUM(L549:L554)","v":0}]
[{"$f":"A522","v":2},{"$f":"B522","v":6},"Ужин 2","кисломол."]
[{"$nulls":3},"булочное"]
[{"$nulls":3},"напиток"]
[{"$nulls":3},"фрукты"]
[]
[]
[{"$nulls":3},"итого",null,{"$f":"SUM(F556:F561)","v":0},{"$f":"SUM(G556:G561)","v":0},0,0,0,null,{"$f":"SUM(L556:L561)","v":0}]
[{"$f":"A522","v":2},{"$f":"B522","v":6},"Итого за день:",null,null,{"$f":"F529+F533+F543+F548+F555+F562","v":680},{"$f":"G529+G533+G543+G548+G555+G562","v":66.05000000000001},68.09500000000001,227.713,1799,null,{"$f":"L529+L533+L543+L548+L555+L562","v":0}]
[2,7,"Завтрак","гор.блюдо"]
[]
[{"$nulls":3},"гор.напиток"]
[{"$nulls":3},"хлеб"]
[{"$nulls":3},"фрукты"]
[]
[]
[{"$nulls":3},"итого",null,{"$f":"SUM(F564:F570)","v":0},{"$f":"SUM(G564:G570)","v":0},0,0,0,null,0]
[{"$f":"A564","v":2},{"$f":"B564","v":7},"Завтрак 2","фрукты"]
[]
[]
[{"$nulls":3},"итого",null,{"$f":"SUM(F572:F574)","v":0},{"$f":"SUM(G572:G574)","v":0},0,0,0,null,{"$f":"SUM(L572:L574)","v":0}]
[{"$f":"A564","v":2},{"$f":"B564","v":7},"Обед","закуска"]
[{"$nulls":3},"1 блюдо"]
[{"$nulls":3},"2 блюдо"]
[{"$nulls":3},"гарнир"]
[{"$nulls":3},"напиток"]
[{"$nulls":3},"хлеб бел."]
[{"$nulls":3},"хлеб черн."]
[]
[]
[{"$nulls":3},"итого",null,{"$f":"SUM(F576:F584)","v":0},{"$f":"SUM(G576:G584)","v":0},0,0,0,null,{"$f":"SUM(L576:L584)","v":0}]
[{"$f":"A564","v":2},{"$f":"B564","v":7},"Полдник","булочное"]
[{"$nulls":3},"напиток"]
[]
[]
[{"$nulls":3},"итого",null,{"$f":"SUM(F586:F589)","v":0},{"$f":"SUM(G586:G589)","v":0},0,0,0,null,{"$f":"SUM(L583:L589)","v":0}]
[{"$f":"A564","v":2},{"$f":"B564","v":7},"Ужин","гор.блюдо"]
[{"$nulls":3},"гарнир"]
[{"$nulls":3},"напиток"]
[{"$nulls":3},"хлеб"]
[]
[]
[{"$nulls":3},"итого",null,{"$f":"SUM(F591:F596)","v":0},{"$f":"SUM(G591:G596)","v":0},0,0,0,null,{"$f":"SUM(L591:L596)","v":0}]
[{"$f":"A564","v":2},{"$f":"B564","v":7},"Ужин 2","кисломол."]
[{"$nulls":3},"булочное"]
[{"$nulls":3},"напиток"]
[{"$nulls":3},"фрукты"]
[]
[]
[{"$nulls":3},"итого",null,{"$f":"SUM(F598:F603)","v":0},{"$f":"SUM(G598:G603)","v":0},0,0,0,null,{"$f":"SUM(L598:L603)","v":0}]
[{"$f":"A564","v":2},{"$f":"B564","v":7},"Итого за день:",null,null,{"$f":"F571+F575+F585+F590+F597+F604","v":0},{"$f":"G571+G575+G585+G590+G597+G604","v":0},0,0,0,null,{"$f":"L571+L575+L585+L590+L597+L604","v":0}]
[null,null,"Среднее значение за период:",null,null,5300,180.626,"186,0,23",820.442,5671,null,667.6]